BEGIN:VCALENDAR
VERSION:2.0
PRODID:-//Tukios.com/
BEGIN:VEVENT
UID:31b00903-8134-4cde-897d-90266516eb15@www.martinfuneralhomeinc.com
DTSTAMP:20260423T190906Z
DTSTART:20260425T150000Z
DTEND:20260425T160000Z
SUMMARY:Visitation
DESCRIPTION:
URL:https://www.martinfuneralhomeinc.com/obituaries/billy-vernon-easterling
LOCATION:Clanton Church of God 700 15th Avenue  Clanton AL 35045
GEO:32.850714;-86.63629
END:VEVENT
END:VCALENDAR