BEGIN:VCALENDAR
VERSION:2.0
PRODID:-//Tukios.com/
BEGIN:VEVENT
UID:04fa54d4-e4c4-4b8c-bc3c-8c2c828027a1@www.martinfuneralhomeinc.com
DTSTAMP:20260423T190713Z
DTSTART:20260425T160000Z
DTEND:20260425T170000Z
SUMMARY:Funeral Service
DESCRIPTION:
URL:https://www.martinfuneralhomeinc.com/obituaries/billy-vernon-easterling
LOCATION:Clanton Church of God 700 15th Avenue  Clanton AL 35045
GEO:32.850714;-86.63629
END:VEVENT
END:VCALENDAR