BEGIN:VCALENDAR
VERSION:2.0
PRODID:-//Tukios.com/
BEGIN:VEVENT
UID:01e37b77-8b47-4094-bdbd-585bf12fbbc1@www.martinfuneralhomeinc.com
DTSTAMP:20260422T230424Z
DTSTART:20260424T150000Z
DTEND:20260424T160000Z
SUMMARY:Visitation
DESCRIPTION:
URL:https://www.martinfuneralhomeinc.com/obituaries/cynthia-powell
LOCATION:Mountain Springs Methodist Church 285 County Road 43  Clanton AL 
	35046
GEO:32.9030422;-86.6033435
END:VEVENT
END:VCALENDAR