BEGIN:VCALENDAR
VERSION:2.0
PRODID:-//Tukios.com/
BEGIN:VEVENT
UID:1725ed28-e2d4-40de-8e13-b4616157860c@www.martinfuneralhomeinc.com
DTSTAMP:20260422T230746Z
DTSTART:20260424T160000Z
DTEND:20260424T170000Z
SUMMARY:Funeral Service
DESCRIPTION:
URL:https://www.martinfuneralhomeinc.com/obituaries/cynthia-powell
LOCATION:Mountain Springs Methodist Church 285 County Road 43  Clanton AL 
	35046
GEO:32.9030422;-86.6033435
END:VEVENT
END:VCALENDAR