BEGIN:VCALENDAR
VERSION:2.0
PRODID:-//Tukios.com/
BEGIN:VEVENT
UID:050ea555-cd24-4b9e-aacb-28818af09ef5@www.martinfuneralhomeinc.com
DTSTAMP:20260422T234556Z
DTSTART:20260426T183000Z
DTEND:20260426T200000Z
SUMMARY:Visitation
DESCRIPTION:
URL:https://www.martinfuneralhomeinc.com/obituaries/larry-culpepper
LOCATION: 210 6th Street North  Clanton AL 35045
GEO:32.8403301;-86.6300114
END:VEVENT
END:VCALENDAR