BEGIN:VCALENDAR
VERSION:2.0
PRODID:-//Tukios.com/
BEGIN:VEVENT
UID:1bd16f8a-f283-43d0-ae78-4c3a3008b2dd@www.martinfuneralhomeinc.com
DTSTAMP:20260422T234101Z
DTSTART:20260426T200000Z
DTEND:20260426T210000Z
SUMMARY:Funeral Service
DESCRIPTION:
URL:https://www.martinfuneralhomeinc.com/obituaries/larry-culpepper
LOCATION:Clanton First Baptist Church 210 6th Street North  Clanton AL 
	35045
GEO:32.8404674;-86.6300467
END:VEVENT
END:VCALENDAR