BEGIN:VCALENDAR
VERSION:2.0
PRODID:-//Tukios.com/
BEGIN:VEVENT
UID:75074836-e70c-46cd-9f7a-11bf9e15faef@www.martinfuneralhomeinc.com
DTSTAMP:20260424T182358Z
DTSTART:20260427T170000Z
DTEND:20260427T180000Z
SUMMARY:Visitation
DESCRIPTION:
URL:https://www.martinfuneralhomeinc.com/obituaries/woody-cummings
LOCATION:Union Grove Baptist Church 11501 County Road 51  Jemison AL 
	35085
GEO:32.9795932;-86.6792544
END:VEVENT
END:VCALENDAR