BEGIN:VCALENDAR
VERSION:2.0
PRODID:-//Tukios.com/
BEGIN:VEVENT
UID:cdbfac7c-959d-4dbf-8b93-c0f6a5256027@www.martinfuneralhomeinc.com
DTSTAMP:20260424T182058Z
DTSTART:20260427T180000Z
DTEND:20260427T190000Z
SUMMARY:Funeral Service
DESCRIPTION:
URL:https://www.martinfuneralhomeinc.com/obituaries/woody-cummings
LOCATION:Union Grove Baptist Church 11501 County Road 51  Jemison AL 
	35085
GEO:32.9795932;-86.6792544
END:VEVENT
END:VCALENDAR